BEGIN:VCALENDAR
VERSION:2.0
PRODID:< http://www.open2c.de/ >
METHOD:PUBLISH
X-PUBLISHED-TTL:PT12H
BEGIN:VEVENT
CREATED:20260420T111622Z
LAST-MODIFIED:20260420T111751Z
ORGANIZER;CN="KDFB Geisenfeld"
DTSTAMP:20260421T000125Z
DTSTART;VALUE=DATE:20261208
CATEGORIES:Vereinsfest
SUMMARY:KDFB - Adventfeier in der Stadtpfarrkirche mit Neuaufnahmen  anschl. gemütliches Beisammensein im Pfarrheim
DESCRIPTION:Organisator KDFB Geisenfeld
LOCATION:Stadtpfarrkirche/Pfarrheim\, 85290 Geisenfeld
UID:afd9cccc4418aeb0e6d544514150427a@41a5b41c58c706d3b9433f7a2df6ca74
END:VEVENT
END:VCALENDAR