BEGIN:VCALENDAR
VERSION:2.0
PRODID:< http://www.open2c.de/ >
METHOD:PUBLISH
X-PUBLISHED-TTL:PT12H
BEGIN:VEVENT
CREATED:20260420T110552Z
LAST-MODIFIED:20260420T110631Z
ORGANIZER;CN="Gemeinsam AKTIV in GEISENFELD\nStadt Geisenfeld\nKirchplatz 4\n85290 Geisenfeld"
DTSTAMP:20260420T235710Z
DTSTART:20261202T090000Z
DTEND:20261202T100000Z
CATEGORIES:Sport
SUMMARY:Ü60 Gymnastik für Damen und Herren
DESCRIPTION:Organisator Gemeinsam AKTIV in GEISENFELD Stadt Geisenfeld Kirc
	hplatz 4 85290 Geisenfeld
LOCATION:TV Turnhalle\nJahnstraße 14\n85290 Geisenfeld
UID:4b6026f83fe7758ec121258641bcafca@41a5b41c58c706d3b9433f7a2df6ca74
END:VEVENT
END:VCALENDAR