BEGIN:VCALENDAR
VERSION:2.0
PRODID:< http://www.open2c.de/ >
METHOD:PUBLISH
X-PUBLISHED-TTL:PT12H
BEGIN:VEVENT
CREATED:20260420T110408Z
LAST-MODIFIED:20260420T110433Z
ORGANIZER;CN="Gemeinsam AKTIV in GEISENFELD\nStadt Geisenfeld\nRathausplatz 4\n85290 Geisenfeld"
DTSTAMP:20260421T000316Z
DTSTART:20261201T140000Z
DTEND:20261201T163000Z
CATEGORIES:Sport
SUMMARY:Senioren-Stockschießen
DESCRIPTION:Eine Veranstaltung von Gemeinsam AKTIV in GEISENGELD Organisato
	r Gemeinsam AKTIV in GEISENFELD Stadt Geisenfeld Rathausplatz 4 85290 Geis
	enfeld
LOCATION:Stockbahnen\nParleitener Str. 9\n85290 Geisenfeld
UID:2b8b31fd38a25016be3ee522bba62daa@41a5b41c58c706d3b9433f7a2df6ca74
END:VEVENT
END:VCALENDAR