BEGIN:VCALENDAR
VERSION:2.0
PRODID:< http://www.open2c.de/ >
METHOD:PUBLISH
X-PUBLISHED-TTL:PT12H
BEGIN:VEVENT
CREATED:20260417T074915Z
LAST-MODIFIED:20260417T075042Z
ORGANIZER;CN="Tamatogo e.V."
DTSTAMP:20260423T101541Z
DTSTART;VALUE=DATE:20261129
CATEGORIES:Vereine
SUMMARY:Tamatogo - Benefizveranstaltung im Pfarrheim
DESCRIPTION:Organisator Tamatogo e.V.
LOCATION:Pfarrheim\, 85290 Geisenfeld
UID:702e144004430182e3875804b8a86bd6@41a5b41c58c706d3b9433f7a2df6ca74
END:VEVENT
END:VCALENDAR