BEGIN:VCALENDAR
VERSION:2.0
PRODID:< http://www.open2c.de/ >
METHOD:PUBLISH
X-PUBLISHED-TTL:PT12H
BEGIN:VEVENT
CREATED:20251219T085005Z
LAST-MODIFIED:20251219T085023Z
ORGANIZER;CN="Gemeinsam AKTIV in GEISENFELD\nStadt Geisenfeld\nKirchplatz 4\n85290 Geisenfeld"
DTSTAMP:20260422T040142Z
DTSTART:20260629T173000Z
DTEND:20260629T183000Z
CATEGORIES:Sport
SUMMARY:Herz-Sport Nachsorge für Damen und Herren
DESCRIPTION:Organisator Gemeinsam AKTIV in GEISENFELD Stadt Geisenfeld Kirc
	hplatz 4 85290 Geisenfeld
LOCATION:TV Turnhalle\nJahnstraße 14\n85290 Geisenfeld
UID:07070620890f67900115f8732ce8af9c@41a5b41c58c706d3b9433f7a2df6ca74
END:VEVENT
END:VCALENDAR