BEGIN:VCALENDAR
VERSION:2.0
PRODID:< http://www.open2c.de/ >
METHOD:PUBLISH
X-PUBLISHED-TTL:PT12H
BEGIN:VEVENT
CREATED:20251217T103412Z
LAST-MODIFIED:20251217T103438Z
ORGANIZER;CN="Gemeinsam AKTIV in GEISENFELD\nStadt Geisenfeld\nRathausplatz 4\n85290 Geisenfeld"
DTSTAMP:20260423T104843Z
DTSTART:20260602T140000Z
DTEND:20260602T163000Z
CATEGORIES:Sport
SUMMARY:Senioren-Stockschießen
DESCRIPTION:Eine Veranstaltung von Gemeinsam AKTIV in GEISENGELD Organisato
	r Gemeinsam AKTIV in GEISENFELD Stadt Geisenfeld Rathausplatz 4 85290 Geis
	enfeld
LOCATION:Stockbahnen\nParleitener Str. 9\n85290 Geisenfeld
UID:f73b8f00b6d708726ad84ccfcdd03a46@41a5b41c58c706d3b9433f7a2df6ca74
END:VEVENT
END:VCALENDAR