BEGIN:VCALENDAR
VERSION:2.0
PRODID:< http://www.open2c.de/ >
METHOD:PUBLISH
X-PUBLISHED-TTL:PT12H
BEGIN:VEVENT
CREATED:20251217T101034Z
LAST-MODIFIED:20251217T101100Z
ORGANIZER;CN="Imkerverein Geisenfeld"
DTSTAMP:20260422T142806Z
DTSTART;VALUE=DATE:20260520
CATEGORIES:Vereine
SUMMARY:Stammtisch Imkerverein
DESCRIPTION:Organisator Imkerverein Geisenfeld
LOCATION:Gasthof Birnthaler\n85290 Geisenfeld
UID:41ca91b52cc4cc922337f03fcfc8e69f@41a5b41c58c706d3b9433f7a2df6ca74
END:VEVENT
END:VCALENDAR