BEGIN:VCALENDAR
VERSION:2.0
PRODID:< http://www.open2c.de/ >
METHOD:PUBLISH
X-PUBLISHED-TTL:PT12H
BEGIN:VEVENT
CREATED:20251215T121318Z
LAST-MODIFIED:20251217T093644Z
ORGANIZER;CN="Gemeinsam AKTIV in GEISENFELD\nStadt Geisenfeld\nKirchplatz 4\n85290 Geisenfeld"
DTSTAMP:20260421T124713Z
DTSTART:20260427T143000Z
DTEND:20260427T163000Z
CATEGORIES:Senioren
SUMMARY:Spielenachmittag
DESCRIPTION:Eine Veranstaltung von "Gemeinsam AKTIV in GEISENFELD" Jeder\, d
	er sich durch das Programm angesprochen fühlt\, kann teilnehmen. Kommen Si
	e einfach vorbei! Organisator Gemeinsam AKTIV in GEISENFELD Stadt Geisenfe
	ld Kirchplatz 4 85290 Geisenfeld
LOCATION:Pfarrheim Geisenfeld\nStadtplatz 7\n85290 Geisenfeld
UID:cc3f6d8459840d48d66611e891e8066b@41a5b41c58c706d3b9433f7a2df6ca74
END:VEVENT
END:VCALENDAR