BEGIN:VCALENDAR
VERSION:2.0
PRODID:< http://www.open2c.de/ >
METHOD:PUBLISH
X-PUBLISHED-TTL:PT12H
BEGIN:VEVENT
CREATED:20251203T114613Z
LAST-MODIFIED:20251203T114704Z
ORGANIZER;CN="KDFB Geisenfeld"
DTSTAMP:20260419T134613Z
DTSTART;VALUE=DATE:20260227
CATEGORIES:Vereine
SUMMARY:KDFB – Kreuzweg im Seniorenheim
DESCRIPTION:Organisator KDFB Geisenfeld
LOCATION:Caritas Alten- und Pflegeheim St. Emmeram\, 85290 Geisenfeld
UID:995f09d2dcf7b8eb4a69b730eaf7fd3a@41a5b41c58c706d3b9433f7a2df6ca74
END:VEVENT
BEGIN:VEVENT
CREATED:20251203T114759Z
LAST-MODIFIED:20251203T114959Z
ORGANIZER;CN="USB Geisenfeld"
DTSTAMP:20260419T134613Z
DTSTART;VALUE=DATE:20260227
CATEGORIES:Vereine
SUMMARY:Frühjahrs-Schafkopfturnier
DESCRIPTION:Organisator USB Geisenfeld
LOCATION:Gasthof Birnthaler\n85290 Geisenfeld
UID:d3a59eee20ad42a4a46362fa02efa9bc@41a5b41c58c706d3b9433f7a2df6ca74
END:VEVENT
END:VCALENDAR