BEGIN:VCALENDAR
VERSION:2.0
PRODID:< http://www.open2c.de/ >
METHOD:PUBLISH
X-PUBLISHED-TTL:PT12H
BEGIN:VEVENT
CREATED:20251024T090250Z
LAST-MODIFIED:20251024T090443Z
ORGANIZER;CN="Kolpingsfamilie Geisenfeld e.V."
DTSTAMP:20260424T124749Z
DTSTART;VALUE=DATE:20260803
CATEGORIES:Kinder / Jugendliche
SUMMARY:Ferienpass - Kräuterwanderung für Familien
DESCRIPTION:Organisator Kolpingsfamilie Geisenfeld e.V.
LOCATION:Stadtgebiet\, 85290 Geisenfeld
UID:64cfae94bca3aa21d450ad84a7708985@41a5b41c58c706d3b9433f7a2df6ca74
END:VEVENT
END:VCALENDAR