BEGIN:VCALENDAR
VERSION:2.0
PRODID:< http://www.open2c.de/ >
METHOD:PUBLISH
X-PUBLISHED-TTL:PT12H
BEGIN:VEVENT
CREATED:20250818T105641Z
LAST-MODIFIED:20250818T105900Z
ORGANIZER;CN="Kleinkunst in Unterpindhart"
DTSTAMP:20260420T190547Z
DTSTART;VALUE=DATE:20260308
CATEGORIES:Kleinkunst
SUMMARY:LUKAS WUNDER – „WTFM 100\, Null"
DESCRIPTION: Einlass: 18:00 Uhr   Das mehrfach ausgezeichnete Künstler-Ko
	llektiv Luksan Wunder präsentiert mit „WTFM 100\, Null" ein Kultprogramm
	 der besonderen Art – eine wilde\, multimediale Show\, die das Publikum mi
	t einem Feuerwerk aus Musik\, Videos\, Satire\, Sketches und Stand-Up Comedy 
	begeistert. Wer Luksan Wunder kennt\, weiß: Hier trifft Internetkultur auf
	 Bühnenkunst\, hier verschmelzen virale Phänomene mit gesellschaftskritis
	chem Humor zu einem einzigartigen Erlebnis. Das ist kein gewöhnliches Kab
	arett\, sondern ein rasanter Ritt durch die skurrilen Untiefen der digitale
	n Welt – mal derb\, mal subtil\, mal herrlich absurd\, aber stets mit einem
	 klugen Blick. Das Programm kombiniert witzige Clips\, spontane Einlagen un
	d pointierte Kommentare zu einer Show\, die zum Lachen\, Staunen und Nachden
	ken einlädt. Luksan Wunder spielt virtuos mit den Mitten des Internets\, e
	ntlarvt die Schnelllebigkeit der Meme-Kultur und erschafft so eine ganz ei
	gene Form von Bühnenkunst – intelligent\, überraschend und immer am Pul
	s der Zeit. Dabei verliert die Show nie ihren kritischen Blick auf Fake Ne
	ws\, digitale Überwachung und den Irrinn der Onlinewelt - verpackt in unte
	rhaltsame\, oft absurde\, aber stets pointierte Szenen. Bereits mehrfach aus
	gezeichnet – unter anderem mit dem Deutschen Kleinkunstpreis 2023 sowie 
	als Sieger des Hallertauer Kleinkunstpreises 2025 – gilt „WTFM 100\, Nu
	ll" heute als eines der innovativsten Programme der deutschen Comedy- und 
	Kabarettszene. Ein Muss für Fans von unkonventionellem Humor. Organisator
	 Kleinkunst in Unterpindhart
LOCATION:Landgasthof Rockermeier\nBachstraße 3\nUnterpindhart\n85290 Geisenfeld
UID:2d300cf339631de41f1baa61932703db@41a5b41c58c706d3b9433f7a2df6ca74
END:VEVENT
END:VCALENDAR