BEGIN:VCALENDAR
VERSION:2.0
PRODID:< http://www.open2c.de/ >
METHOD:PUBLISH
X-PUBLISHED-TTL:PT12H
BEGIN:VEVENT
CREATED:20241210T121456Z
LAST-MODIFIED:20241210T121553Z
ORGANIZER;CN="Imkerverein Geisenfeld"
DTSTAMP:20260419T134954Z
DTSTART;VALUE=DATE:20251128
CATEGORIES:Vereine
SUMMARY:Imkerverein - Beteiligung am Christkindlmarkt
DESCRIPTION:Organisator Imkerverein Geisenfeld
LOCATION:Sinnesgarten\n85290 Geisenfeld
UID:147a2893b747bef38453ee1e74bd5f91@41a5b41c58c706d3b9433f7a2df6ca74
END:VEVENT
END:VCALENDAR