BEGIN:VCALENDAR
VERSION:2.0
PRODID:< http://www.open2c.de/ >
METHOD:PUBLISH
X-PUBLISHED-TTL:PT12H
BEGIN:VEVENT
CREATED:20240426T084254Z
LAST-MODIFIED:20240426T084313Z
ORGANIZER;CN="Gemeinsam AKTIV in GEISENFELD\nStadt Geisenfeld\nKirchplatz 4\n85290 Geisenfeld"
DTSTAMP:20260419T134243Z
DTSTART:20240826T173000Z
DTEND:20240826T183000Z
CATEGORIES:Sport
SUMMARY:Herz-Sport Nachsorge für Damen und Herren
DESCRIPTION:Organisator Gemeinsam AKTIV in GEISENFELD Stadt Geisenfeld Kirc
	hplatz 4 85290 Geisenfeld
LOCATION:TV Turnhalle\nJahnstraße 14\n85290 Geisenfeld
UID:f0cf2e55aeb979ec9ee63afd3b7e8628@41a5b41c58c706d3b9433f7a2df6ca74
END:VEVENT
END:VCALENDAR