BEGIN:VCALENDAR
VERSION:2.0
PRODID:< http://www.open2c.de/ >
METHOD:PUBLISH
X-PUBLISHED-TTL:PT12H
BEGIN:VEVENT
CREATED:20240226T102721Z
LAST-MODIFIED:20240226T103123Z
ORGANIZER;CN="Theaterfreunde Nötting e. V."
DTSTAMP:20260422T085139Z
DTSTART;VALUE=DATE:20240301
CATEGORIES:Theater
SUMMARY:Theaterfreunde Nötting e. V. - 3-Akter
DESCRIPTION:Organisator Theaterfreunde Nötting e. V.
LOCATION:Fuchssaal\, Regensburger Straße 17\, 85290 Geisenfeld
UID:449d80b62b9dab7e5147088874b44f37@41a5b41c58c706d3b9433f7a2df6ca74
END:VEVENT
END:VCALENDAR