BEGIN:VCALENDAR
VERSION:1.0
PRODID:Open2CKalenderExportV11
BEGIN:VEVENT
DTSTAMP:20260420T110035Z
DTSTART:20261130T090000Z
DTEND:20261130T100000Z
CATEGORIES:Sport
SUMMARY:Nordic-Walking
DESCRIPTION:Einstieg jederzeit möglich |   | Organisator   Gemeinsam AKTIV in GEISENFELD | Stadt Geisenfeld | Kirchplatz 4 | 85290 Geisenfeld
LOCATION:Treffpunkt: 
 Forsthaus Ainau
 Forsthaus 1
 85290 Geisenfeld
UID:0075afa9cb9d3451832b0d79e412b39b-25f6883652acbfa292182e823df0e728
PRIORITY:3
END:VEVENT
END:VCALENDAR
