BEGIN:VCALENDAR
VERSION:1.0
PRODID:Open2CKalenderExportV11
BEGIN:VEVENT
DTSTAMP:20260417T075042Z
DTSTART:20261129T133000Z
DTEND:20261129T133000Z
CATEGORIES:Vereine
SUMMARY:Tamatogo - Benefizveranstaltung im Pfarrheim
DESCRIPTION: | Organisator   Tamatogo e.V.
LOCATION:Pfarrheim, 85290 Geisenfeld
UID:87d0fa588bd63ffb87c38638346ed25b-2bb236d022f5dd8dbbea30c7d9d75953
PRIORITY:3
END:VEVENT
END:VCALENDAR
