BEGIN:VCALENDAR
VERSION:1.0
PRODID:Open2CKalenderExportV11
BEGIN:VEVENT
DTSTAMP:20260410T084111Z
DTSTART:20261111T170000Z
DTEND:20261111T180000Z
CATEGORIES:Sport
SUMMARY:Wassergymnastik – Teilnahme ist kostenlos
DESCRIPTION:Eine Veranstaltung von "Gemeinsam AKTIV in GEISENFELD" | Jeder, der sich durch das Programm angesprochen fühlt, kann teilnehmen. | Kommen Sie einfach vorbei.  | Organisator   Gemeinsam AKTIV in GEISENFELD | Stadt Geisenfeld | Kirchplatz 4 | 85290 Geisenfeld
LOCATION:Hallenbad Geisenfeld
 Am Bad 14
 85290 Geisenfeld
UID:541026bf19cf9e8900e9a6089a37f6cb-7aadb895964814e55f33aef0d9deb6ac
PRIORITY:3
END:VEVENT
END:VCALENDAR
