BEGIN:VCALENDAR
VERSION:1.0
PRODID:Open2CKalenderExportV11
BEGIN:VEVENT
DTSTAMP:20260408T092202Z
DTSTART:20261109T143000Z
DTEND:20261109T163000Z
CATEGORIES:Senioren
SUMMARY:Montagscafé - St. Martinsfeier
DESCRIPTION:Jeder, der sich durch das Programm angesprochen fühlt, kann teilnehmen. | Kommen Sie einfach frei und ungezwungen vorbei. | Bei Ausflügen ist eine Anmeldung notwendig. | Eine Veranstaltung von "Gemeinsam AKTIV in GEISENFELD". | Organisator   Gemeinsam AKTIV in GEISENFELD | Stadt Geisenfeld | Kirchplatz 4 | 85290 Geisenfeld
LOCATION:Pfarrheim Geisenfeld
 Stadtplatz 7
 85290 Geisenfeld
UID:8515aa5d8e2b8b2d32326b9c64ef6fec-cbcbd422de3a8c62888cf46ba7aa633e
PRIORITY:3
END:VEVENT
END:VCALENDAR
