BEGIN:VCALENDAR
VERSION:1.0
PRODID:Open2CKalenderExportV11
BEGIN:VEVENT
DTSTAMP:20260202T114639Z
DTSTART:20260720T090000Z
DTEND:20260720T100000Z
CATEGORIES:Sport
SUMMARY:Nordic-Walking
DESCRIPTION:Einstieg jederzeit möglich |   | Organisator   Gemeinsam AKTIV in GEISENFELD | Stadt Geisenfeld | Kirchplatz 4 | 85290 Geisenfeld
LOCATION:Treffpunkt: 
 Forsthaus Ainau
 Forsthaus 1
 85290 Geisenfeld
UID:d815aa0b8a456d8b08f84ad6d31804b4-25f6883652acbfa292182e823df0e728
PRIORITY:3
END:VEVENT
END:VCALENDAR
