BEGIN:VCALENDAR
VERSION:1.0
PRODID:Open2CKalenderExportV11
BEGIN:VEVENT
DTSTAMP:20251219T104029Z
DTSTART:20260704T000000Z
DTEND:20260704T000000Z
CATEGORIES:Vereinsfest
SUMMARY:Weinfest
DESCRIPTION:Ausweichtermin 11.07.2026 | Organisator   FC Geisenfeld e.V. 1923
LOCATION:Rathausplatz
 85290 Geisenfeld
UID:311d74322f67ddc0ca5cebb6469c0e58-bbdb5aa836232e4ed140aae7d8ebfa1a
PRIORITY:3
END:VEVENT
END:VCALENDAR
