BEGIN:VCALENDAR
VERSION:1.0
PRODID:Open2CKalenderExportV11
BEGIN:VEVENT
DTSTAMP:20251219T091641Z
DTSTART:20260702T090000Z
DTEND:20260702T100000Z
CATEGORIES:Sport
SUMMARY:Nordic-Walking
DESCRIPTION:Einstieg jederzeit möglich |   | Organisator   Gemeinsam AKTIV in GEISENFELD | Stadt Geisenfeld | Kirchplatz 4 | 85290 Geisenfeld
LOCATION:Treffpunkt: 
 Forsthaus Ainau
 Forsthaus 1
 85290 Geisenfeld
UID:d397604dce3cdec70519c9f0a825e90f-25f6883652acbfa292182e823df0e728
PRIORITY:3
END:VEVENT
END:VCALENDAR
