BEGIN:VCALENDAR
VERSION:1.0
PRODID:Open2CKalenderExportV11
BEGIN:VEVENT
DTSTAMP:20251219T082038Z
DTSTART:20260618T090000Z
DTEND:20260618T100000Z
CATEGORIES:Sport
SUMMARY:Nordic-Walking
DESCRIPTION:Einstieg jederzeit möglich |   | Organisator   Gemeinsam AKTIV in GEISENFELD | Stadt Geisenfeld | Kirchplatz 4 | 85290 Geisenfeld
LOCATION:Treffpunkt: 
 Forsthaus Ainau
 Forsthaus 1
 85290 Geisenfeld
UID:903a0af86f50a330cc07a005927c9776-25f6883652acbfa292182e823df0e728
PRIORITY:3
END:VEVENT
END:VCALENDAR
