BEGIN:VCALENDAR
VERSION:1.0
PRODID:Open2CKalenderExportV11
BEGIN:VEVENT
DTSTAMP:20251217T101100Z
DTSTART:20260520T193000Z
DTEND:20260520T193000Z
CATEGORIES:Vereine
SUMMARY:Stammtisch Imkerverein
DESCRIPTION: | Organisator   Imkerverein Geisenfeld
LOCATION:Gasthof Birnthaler
 85290 Geisenfeld
UID:8062509333c3b1bc1da90342c3c67a4e-e80ae2cc68da9ad906f091c2abafdeb8
PRIORITY:3
END:VEVENT
END:VCALENDAR
