BEGIN:VCALENDAR
VERSION:1.0
PRODID:Open2CKalenderExportV11
BEGIN:VEVENT
DTSTAMP:20251215T112125Z
DTSTART:20260413T143000Z
DTEND:20260413T163000Z
CATEGORIES:Senioren
SUMMARY:Montagscafé
DESCRIPTION:Jeder, der sich durch das Programm angesprochen fühlt, kann teilnehmen. | Kommen Sie einfach frei und ungezwungen vorbei. | Bei Ausflügen ist eine Anmeldung notwendig. | Eine Veranstaltung von "Gemeinsam AKTIV in GEISENFELD". | Organisator   Gemeinsam AKTIV in GEISENFELD | Stadt Geisenfeld | Kirchplatz 4 | 85290 Geisenfeld
LOCATION:Pfarrheim Geisenfeld
 Stadtplatz 7
 85290 Geisenfeld
UID:5742ccdca76542eb1ea9ab5a08652810-39ff04b390ea96ecdce1a1c0c24b5ffd
PRIORITY:3
END:VEVENT
END:VCALENDAR
