BEGIN:VCALENDAR
VERSION:1.0
PRODID:Open2CKalenderExportV11
BEGIN:VEVENT
DTSTAMP:20251203T111857Z
DTSTART:20260206T000000Z
DTEND:20260206T000000Z
CATEGORIES:Vereine
SUMMARY:Faschingskränzchen KDFB „Hexen“
DESCRIPTION: | Organisator   KDFB Geisenfeld
LOCATION:Geisenfelder Hof, 85290 Geisenfeld
UID:a50f7b4d9eca3fccb2578afe5a379da4-62b342813f1f2e855fe5c98903051381
PRIORITY:3
END:VEVENT
END:VCALENDAR
