BEGIN:VCALENDAR
VERSION:1.0
PRODID:Open2CKalenderExportV11
BEGIN:VEVENT
DTSTAMP:20250818T105900Z
DTSTART:20260308T190000Z
DTEND:20260308T190000Z
CATEGORIES:Kleinkunst
SUMMARY:LUKAS WUNDER – „WTFM 100, Null"
DESCRIPTION: |  |  | Einlass: 18:00 Uhr |   | Das mehrfach ausgezeichnete Künstler-Kollektiv Luksan Wunder präsentiert mit „WTFM 100, Null" ein Kultprogramm der besonderen Art – eine wilde, multimediale Show, die das Publikum mit einem Feuerwerk aus Musik, Videos, Satire, Sketches und Stand-Up Comedy begeistert. | Wer Luksan Wunder kennt, weiß: Hier trifft Internetkultur auf Bühnenkunst, hier verschmelzen virale Phänomene mit gesellschaftskritischem Humor zu einem einzigartigen Erlebnis. | Das ist kein gewöhnliches Kabarett, sondern ein rasanter Ritt durch die skurrilen Untiefen der digitalen Welt – mal derb, mal subtil, mal herrlich absurd, aber stets mit einem klugen Blick. | Das Programm kombiniert witzige Clips, spontane Einlagen und pointierte Kommentare zu einer Show, die zum Lachen, Staunen und Nachdenken einlädt. Luksan Wunder spielt virtuos mit den Mitten des Internets, entlarvt die Schnelllebigkeit der Meme-Kultur und erschafft so eine ganz eigene Form von Bühnenkunst – intelligent, überraschend und immer am Puls der Zeit. Dabei verliert die Show nie ihren kritischen Blick auf Fake News, digitale Überwachung und den Irrinn der Onlinewelt - verpackt in unterhaltsame, oft absurde, aber stets pointierte Szenen. | Bereits mehrfach ausgezeichnet – unter anderem mit dem Deutschen Kleinkunstpreis 2023 sowie als Sieger des Hallertauer Kleinkunstpreises 2025 – gilt „WTFM 100, Null" heute als eines der innovativsten Programme der deutschen Comedy- und Kabarettszene. Ein Muss für Fans von unkonventionellem Humor. |  |  |  | Organisator   Kleinkunst in Unterpindhart
LOCATION:Landgasthof Rockermeier
 Bachstraße 3
 Unterpindhart
 85290 Geisenfeld
UID:8409367f484d3df1f866b2a53cc33306-9a77a8196c7b99eea68fcb0c378c098f
PRIORITY:3
END:VEVENT
END:VCALENDAR
