BEGIN:VCALENDAR
VERSION:1.0
PRODID:Open2CKalenderExportV11
BEGIN:VEVENT
DTSTAMP:20250205T120239Z
DTSTART:20251204T090000Z
DTEND:20251204T100000Z
CATEGORIES:Sport
SUMMARY:Nordic - Walking
DESCRIPTION:Einstieg jederzeit möglich |   | Organisator   Gemeinsam AKTIV in GEISENFELD | Stadt Geisenfeld | Kirchplatz 4 | 85290 Geisenfeld
LOCATION:Treffpunkt: 
 Forsthaus Ainau
 Forsthaus 1
 85290 Geisenfeld
UID:0dbde5aa67ea445290d3d9a6fc3b3432-339b01fbf3c5459bc02178f0a8928fa5
PRIORITY:3
END:VEVENT
END:VCALENDAR
