BEGIN:VCALENDAR
VERSION:1.0
PRODID:Open2CKalenderExportV11
BEGIN:VEVENT
DTSTAMP:20241203T112205Z
DTSTART:20250212T090000Z
DTEND:20250212T100000Z
CATEGORIES:Sport
SUMMARY:Ü60 Gymnastik für Damen und Herren
DESCRIPTION: | Organisator   Gemeinsam AKTIV in GEISENFELD | Stadt Geisenfeld | Kirchplatz 4 | 85290 Geisenfeld
LOCATION:TV Turnhalle
 Jahnstraße 14
 85290 Geisenfeld
UID:eb632d99be3d06683b2f4bfb62db6b79-241ab67dcbe07fb665b572071c3e61e1
PRIORITY:3
END:VEVENT
END:VCALENDAR
