BEGIN:VCALENDAR
VERSION:1.0
PRODID:Open2CKalenderExportV11
BEGIN:VEVENT
DTSTAMP:20230204T075555Z
DTSTART:20230210T143000Z
DTEND:20230210T163000Z
CATEGORIES:Senioren
SUMMARY:AWO Kaffee-Klatsch (Themennachmittag)
DESCRIPTION: | Organisator   Stadt Geisenfeld | Kirchplatz 4 | 85290 Geisenfeld | Kontakt   AWO | Manfred Niebauer | Tel.: 0179/2428969 | Diakon Nikolaus Lackermair | Tel.: 08452/1826
LOCATION:Am Hochstadel,
 Altes Klärwerk
 85290 Geisenfeld
UID:d42248506525da6ef1a44282ab12de6b-488a719bbb1c1e88f9b0c81a42b45a3d
PRIORITY:3
END:VEVENT
BEGIN:VEVENT
DTSTAMP:20230204T074102Z
DTSTART:20230210T193000Z
DTEND:20230210T193000Z
CATEGORIES:Senioren
SUMMARY:Faschingskränzchen
DESCRIPTION: | Organisator   KDFB
LOCATION:Geisenfelder Hof
UID:f9af99cc845d7bd64727c4e3e592327f-a4df5c15da2f6e03c59826f1234379a6
PRIORITY:3
END:VEVENT
END:VCALENDAR
