BEGIN:VCALENDAR
VERSION:1.0
PRODID:Open2CKalenderExportV11
BEGIN:VEVENT
DTSTAMP:20220915T180517Z
DTSTART:20221016T193000Z
DTEND:20221016T193000Z
CATEGORIES:Ausstellung
SUMMARY:Beamershow über Japan von Ralf und Martina Wandke des Schanzer Photoclubs Ingolstadt
DESCRIPTION:  | Nähere Infos unter Treffpunkt Stadtkultur oder hier. | Organisator   Stadtkultur der Stadt Geisenfeld
LOCATION:Rathaussaal im Rathaus Geisenfeld
 Kirchplatz 4, 3. OG
 85290 Geisenfeld
UID:a30862d46669cf4841331a2f549677f9-bd2c8f69038f9dacb48259fe82e345ac
PRIORITY:3
END:VEVENT
END:VCALENDAR
